BEGIN:VCALENDAR
VERSION:2.0
PRODID:-//wp-events-plugin.com//6.2.1//EN
TZID:America/Los_Angeles
X-WR-TIMEZONE:America/Los_Angeles
BEGIN:VEVENT
UID:625@eicsanjose.org
DTSTART;TZID=America/Los_Angeles:20260719T170000
DTEND;TZID=America/Los_Angeles:20260719T190000
DTSTAMP:20250701T164156Z
URL:https://www.eicsanjose.org/wp/events/331-eic-gavel-club-meetings-mezza
 nine-2-2026-07-19/
SUMMARY:#331 - EIC Gavel Club Meetings - Mezzanine
DESCRIPTION:#331 - EIC Gavel Club Meetings - Mezzanine\n\nEvery 1st and 3rd
  Sunday of the Month
CATEGORIES:Toast Master Leadership
LOCATION:Evergreen Islamic Center\, 2486 Ruby Avenue\, San Jose\, CA\, 9514
 8\, United States
X-APPLE-STRUCTURED-LOCATION;VALUE=URI;X-ADDRESS=2486 Ruby Avenue\, San Jose
 \, CA\, 95148\, United States;X-APPLE-RADIUS=100;X-TITLE=Evergreen Islamic
  Center:geo:0,0
END:VEVENT
BEGIN:VTIMEZONE
TZID:America/Los_Angeles
X-LIC-LOCATION:America/Los_Angeles
BEGIN:DAYLIGHT
DTSTART:20260308T030000
TZOFFSETFROM:-0800
TZOFFSETTO:-0700
TZNAME:PDT
END:DAYLIGHT
END:VTIMEZONE
END:VCALENDAR