BEGIN:VCALENDAR
VERSION:2.0
PRODID:-//wp-events-plugin.com//6.2.1//EN
TZID:America/Los_Angeles
X-WR-TIMEZONE:America/Los_Angeles
BEGIN:VEVENT
UID:646@eicsanjose.org
DTSTART;TZID=America/Los_Angeles:20260704T150000
DTEND;TZID=America/Los_Angeles:20260704T190000
DTSTAMP:20260210T200559Z
URL:https://www.eicsanjose.org/wp/events/nikah-big-hall/
SUMMARY:#365 - Nikah - Big Hall and Main Hall
DESCRIPTION:#365 -  Nikah. Big Hall and Main Hall. Br Aqeel Ahmed
CATEGORIES:Nikah
LOCATION:Evergreen Islamic Center\, 2486 Ruby Avenue\, San Jose\, CA\, 9514
 8\, United States
X-APPLE-STRUCTURED-LOCATION;VALUE=URI;X-ADDRESS=2486 Ruby Avenue\, San Jose
 \, CA\, 95148\, United States;X-APPLE-RADIUS=100;X-TITLE=Evergreen Islamic
  Center:geo:0,0
END:VEVENT
BEGIN:VTIMEZONE
TZID:America/Los_Angeles
X-LIC-LOCATION:America/Los_Angeles
BEGIN:DAYLIGHT
DTSTART:20260308T030000
TZOFFSETFROM:-0800
TZOFFSETTO:-0700
TZNAME:PDT
END:DAYLIGHT
END:VTIMEZONE
END:VCALENDAR